BEGIN:VCALENDAR
VERSION:2.0
PRODID:-//Eastern Shore Art Center - ECPv6.15.20//NONSGML v1.0//EN
CALSCALE:GREGORIAN
METHOD:PUBLISH
X-WR-CALNAME:Eastern Shore Art Center
X-ORIGINAL-URL:https://esartcenter.org
X-WR-CALDESC:Events for Eastern Shore Art Center
REFRESH-INTERVAL;VALUE=DURATION:PT1H
X-Robots-Tag:noindex
X-PUBLISHED-TTL:PT1H
BEGIN:VTIMEZONE
TZID:America/Chicago
BEGIN:DAYLIGHT
TZOFFSETFROM:-0600
TZOFFSETTO:-0500
TZNAME:CDT
DTSTART:20250309T080000
END:DAYLIGHT
BEGIN:STANDARD
TZOFFSETFROM:-0500
TZOFFSETTO:-0600
TZNAME:CST
DTSTART:20251102T070000
END:STANDARD
BEGIN:DAYLIGHT
TZOFFSETFROM:-0600
TZOFFSETTO:-0500
TZNAME:CDT
DTSTART:20260308T080000
END:DAYLIGHT
BEGIN:STANDARD
TZOFFSETFROM:-0500
TZOFFSETTO:-0600
TZNAME:CST
DTSTART:20261101T070000
END:STANDARD
BEGIN:DAYLIGHT
TZOFFSETFROM:-0600
TZOFFSETTO:-0500
TZNAME:CDT
DTSTART:20270314T080000
END:DAYLIGHT
BEGIN:STANDARD
TZOFFSETFROM:-0500
TZOFFSETTO:-0600
TZNAME:CST
DTSTART:20271107T070000
END:STANDARD
END:VTIMEZONE
BEGIN:VEVENT
DTSTART;VALUE=DATE:20260318
DTEND;VALUE=DATE:20260319
DTSTAMP:20260425T114937
CREATED:20260312T181123Z
LAST-MODIFIED:20260312T181123Z
UID:21548-1773792000-1773878399@esartcenter.org
SUMMARY:CALL TO SCULPTORS: City Roundabouts
DESCRIPTION:The City of Fairhope\, Alabama is seeking qualified artists to submit credentials for the creation of two distinct\, high-profile public sculpture projects. Leading this call is the Committee on Public Art\, a committee of the 501c3 nonprofit Eastern Shore Art Association\, Inc. This call serves as the initial Request for Credentials (RFQ). \nSculpture #1\, located at the roundabout intersection of Veterans Dr\, Scenic 98\, Hwy 104 and Section St\, adjacent to the Nature Preserve Park and the Flower Clock\, will serves as the northern gateway to the City downtown district. \nSculpture #2\, located at the roundabout intersection of Hwy 13 and Hwy 32\, with close proximity to the Fairhope Airport\, Sports Complex\, and surrounded by agriculture\, will serve as a southern and eastern gateway to the City. \n  \nOnline Application Deadline: March 18th \nTo apply and learn more details: \nhttps://artist.callforentry.org/festivals_unique_info.php?ID=17018 \n___ \nQuestions? Reach out to COPA Representative Bryant Whelan at whelan@esartcenter.org
URL:https://esartcenter.org/event/call-to-sculptors-city-roundabouts/
CATEGORIES:Art
ATTACH;FMTTYPE=image/jpeg:https://esartcenter.org/wp-content/uploads/2026/03/roundabout-location.jpg
END:VEVENT
END:VCALENDAR