BEGIN:VCALENDAR
VERSION:2.0
PRODID:-//Eastern Shore Art Center - ECPv6.15.20//NONSGML v1.0//EN
CALSCALE:GREGORIAN
METHOD:PUBLISH
X-WR-CALNAME:Eastern Shore Art Center
X-ORIGINAL-URL:https://esartcenter.org
X-WR-CALDESC:Events for Eastern Shore Art Center
REFRESH-INTERVAL;VALUE=DURATION:PT1H
X-Robots-Tag:noindex
X-PUBLISHED-TTL:PT1H
BEGIN:VTIMEZONE
TZID:America/Chicago
BEGIN:DAYLIGHT
TZOFFSETFROM:-0600
TZOFFSETTO:-0500
TZNAME:CDT
DTSTART:20250309T080000
END:DAYLIGHT
BEGIN:STANDARD
TZOFFSETFROM:-0500
TZOFFSETTO:-0600
TZNAME:CST
DTSTART:20251102T070000
END:STANDARD
BEGIN:DAYLIGHT
TZOFFSETFROM:-0600
TZOFFSETTO:-0500
TZNAME:CDT
DTSTART:20260308T080000
END:DAYLIGHT
BEGIN:STANDARD
TZOFFSETFROM:-0500
TZOFFSETTO:-0600
TZNAME:CST
DTSTART:20261101T070000
END:STANDARD
BEGIN:DAYLIGHT
TZOFFSETFROM:-0600
TZOFFSETTO:-0500
TZNAME:CDT
DTSTART:20270314T080000
END:DAYLIGHT
BEGIN:STANDARD
TZOFFSETFROM:-0500
TZOFFSETTO:-0600
TZNAME:CST
DTSTART:20271107T070000
END:STANDARD
END:VTIMEZONE
BEGIN:VEVENT
DTSTART;TZID=America/Chicago:20260206T180000
DTEND;TZID=America/Chicago:20260206T200000
DTSTAMP:20260425T064059
CREATED:20260108T213728Z
LAST-MODIFIED:20260109T154050Z
UID:20601-1770400800-1770408000@esartcenter.org
SUMMARY:First Friday Art Walk
DESCRIPTION:Eastern Shore Art Center Hosts First Friday Art Walk February 6\, 2026! Event sponsored by Cardiology Associates. Live music inside by David Ellis.\nFree admission. Donations welcomed. Refreshments served. Join ESAC for a Permanent Collection take-over of ALL galleries!\n\nRETURNING EXHIBIT: Herman BischoffThe Art Center’s largest gallery focuses on the work of late artist Herman Bischoff\, a long-time supporter of ESAC’s mission. Exhibited paintings show his breadth of work from horses at the polo fields to figure illustration.\n\nRETURNING EXHIBIT: Pinky Bass and FriendsA recent addition to the ESAC Permanent Collection is a selection of Pinky Bass artwork from the 2024 exhibit “THREAD OF (dis)INTEGRATION” originally displayed at the Alabama Contemporary Art Center. A major part of that exhibit was a collaboration between Pinky and various Fairhope/Mobile artists\, including two large Coptic bound books.\n\nFeatured artists within the Permanent Collection also including Mannie Pair\, Frank Caperton\, Jean Lawrence\, Michael Banks and much more.\n\nRETURNING EXHIBIT: Members’ Sales GalleryWorks by ESAC’s Artist Level Members and above. This gallery changes out every two months and features all sorts of art mediums\, all for sale!\n\nAll exhibits will be on display through February 27\, 2026.\n\n\nFirst Friday Art Walk sponsored by:\nCardiology Associates
URL:https://esartcenter.org/event/first-friday-art-walk-feb2026/
LOCATION:Eastern Shore Art Center\, 401 Oak Street\, Fairhope\, AL\, 36532\, United States
CATEGORIES:Art Walk
ATTACH;FMTTYPE=image/jpeg:https://esartcenter.org/wp-content/uploads/2025/12/bischoff-permcoll-web2.jpg
ORGANIZER;CN="Eastern Shore Art Center":MAILTO:info@esartcenter.org
END:VEVENT
BEGIN:VEVENT
DTSTART;VALUE=DATE:20260217
DTEND;VALUE=DATE:20260218
DTSTAMP:20260425T064059
CREATED:20231130T180308Z
LAST-MODIFIED:20260120T211543Z
UID:10374-1771286400-1771372799@esartcenter.org
SUMMARY:Closed for Mardi Gras Holiday
DESCRIPTION:ESAC will be closed so that our staff and volunteers may spend time with their families. We’ll reopen Wednesday\, February 18th. \nLaissez les bons temps rouler!
URL:https://esartcenter.org/event/closed-for-mardi-gras-holiday-2026/
LOCATION:Eastern Shore Art Center\, 401 Oak Street\, Fairhope\, AL\, 36532\, United States
ATTACH;FMTTYPE=image/jpeg:https://esartcenter.org/wp-content/uploads/2022/04/esac-building.jpg
ORGANIZER;CN="Eastern Shore Art Center":MAILTO:info@esartcenter.org
END:VEVENT
BEGIN:VEVENT
DTSTART;TZID=America/Chicago:20260227T090000
DTEND;TZID=America/Chicago:20260227T140000
DTSTAMP:20260425T064059
CREATED:20231121T215703Z
LAST-MODIFIED:20251204T173902Z
UID:10269-1772182800-1772200800@esartcenter.org
SUMMARY:Members’ Sales Gallery Change-out
DESCRIPTION:To participate: Must be Artist Level Member (or above) May submit only one piece per change-out. Artwork should not exceed 30″ in any direction for display. Works MUST be framed or gallery wrapped\, wired and ready for hanging. Artwork will not be accepted if it has been previously displayed in the Art Center’s Members’ Gallery. Artwork must have been created within the last 2 years. \nIf the artwork is sold during this period\, ESAC will notify the artist and it may be replaced with a new piece! ESAC retains a 30% commission on sold work. Unsold work must be picked up on the day of change out. Participants will incur a $3/day storage fee for any pieces that remain by closing on the Wednesday following change out. \n\n\n\n\n\n\n\n\n\n\n\n\n\n\n\n\n\n\nArtwork MUST be submitted on the date of take in.  Once the show has been hung\, late entries will not be accepted.  Due to limited space\, we will accept art on a first come basis. \nArtwork will be accepted from 9am – until we reach the first 50 pieces on the following change-out date: \nFebruary 27\, 2026 \n** First come\, first served! We only have enough room for 50 pieces.
URL:https://esartcenter.org/event/members-sales-gallery-change-out-2-27-26/
LOCATION:Eastern Shore Art Center\, 401 Oak Street\, Fairhope\, AL\, 36532\, United States
CATEGORIES:Art
ATTACH;FMTTYPE=image/jpeg:https://esartcenter.org/wp-content/uploads/2022/04/thumbnail_IMG_3052.jpg
ORGANIZER;CN="Eastern Shore Art Center":MAILTO:info@esartcenter.org
END:VEVENT
BEGIN:VEVENT
DTSTART;TZID=America/Chicago:20260228T100000
DTEND;TZID=America/Chicago:20260228T180000
DTSTAMP:20260425T064059
CREATED:20231129T211945Z
LAST-MODIFIED:20251204T174842Z
UID:10329-1772272800-1772301600@esartcenter.org
SUMMARY:Members' Juried Show Art Drop-off
DESCRIPTION:The Members’ Juried Show showcases various work from the Artist Level members of the Eastern Shore Art Association. Artist Members are able to submit 3 original works done in any media\, including painting\, photography\, pottery and more. \nJuror/Judge: TBA \n  \nForm available in mid-January 2026
URL:https://esartcenter.org/event/members-juried-show-art-drop-off-2-28-26/
LOCATION:Eastern Shore Art Center\, 401 Oak Street\, Fairhope\, AL\, 36532\, United States
CATEGORIES:Art,Exhibits,Membership
ATTACH;FMTTYPE=image/jpeg:https://esartcenter.org/wp-content/uploads/2023/03/juried-show-web-2023.jpg
ORGANIZER;CN="Eastern Shore Art Center":MAILTO:info@esartcenter.org
END:VEVENT
END:VCALENDAR