BEGIN:VCALENDAR
VERSION:2.0
PRODID:-//Eastern Shore Art Center - ECPv6.15.20//NONSGML v1.0//EN
CALSCALE:GREGORIAN
METHOD:PUBLISH
X-ORIGINAL-URL:https://esartcenter.org
X-WR-CALDESC:Events for Eastern Shore Art Center
REFRESH-INTERVAL;VALUE=DURATION:PT1H
X-Robots-Tag:noindex
X-PUBLISHED-TTL:PT1H
BEGIN:VTIMEZONE
TZID:America/Chicago
BEGIN:DAYLIGHT
TZOFFSETFROM:-0600
TZOFFSETTO:-0500
TZNAME:CDT
DTSTART:20250309T080000
END:DAYLIGHT
BEGIN:STANDARD
TZOFFSETFROM:-0500
TZOFFSETTO:-0600
TZNAME:CST
DTSTART:20251102T070000
END:STANDARD
BEGIN:DAYLIGHT
TZOFFSETFROM:-0600
TZOFFSETTO:-0500
TZNAME:CDT
DTSTART:20260308T080000
END:DAYLIGHT
BEGIN:STANDARD
TZOFFSETFROM:-0500
TZOFFSETTO:-0600
TZNAME:CST
DTSTART:20261101T070000
END:STANDARD
BEGIN:DAYLIGHT
TZOFFSETFROM:-0600
TZOFFSETTO:-0500
TZNAME:CDT
DTSTART:20270314T080000
END:DAYLIGHT
BEGIN:STANDARD
TZOFFSETFROM:-0500
TZOFFSETTO:-0600
TZNAME:CST
DTSTART:20271107T070000
END:STANDARD
END:VTIMEZONE
BEGIN:VEVENT
DTSTART;VALUE=DATE:20260801
DTEND;VALUE=DATE:20260802
DTSTAMP:20260422T125714
CREATED:20240614T175707Z
LAST-MODIFIED:20251204T181419Z
UID:13023-1785542400-1785628799@esartcenter.org
SUMMARY:Apps Live: Outdoor Art Show 2027
DESCRIPTION:EVENT: MARCH 19 – 21\, 2027 @ 10am-5pm each day\nThe OUTDOOR ART SHOW is located on the grounds of the Eastern Shore Art Center and the surrounding downtown area of Fairhope\, Alabama on Oak and Section Streets. It is within walking distance to Mobile Bay\, many specialty shops and restaurants. This is a cultural and social highlight for the Gulf Coast and attracts more than 250\,000 visitors! \nThe art show has included prestigious\, international and regional fine artists for the past 54 years. This year\, Eastern Shore Art Center will accept an exclusive selection of renowned artists and cutting-edge newcomers to attract the most respected art dealers\, collectors\, interior designers and art enthusiasts.  \n\nATTENTION INTERESTED ARTISTS:  \nARTIST APPLICATIONS GO LIVE on ZAPPlication.org: AUGUST 1\, 2026 \nDeadline: November 1\, 2026
URL:https://esartcenter.org/event/apps-live-outdoor-art-show-2027/
LOCATION:AL
CATEGORIES:Outdoor Art Show
ATTACH;FMTTYPE=image/jpeg:https://esartcenter.org/wp-content/uploads/2023/03/oas-web5.jpg
ORGANIZER;CN="Eastern Shore Art Center":MAILTO:info@esartcenter.org
END:VEVENT
END:VCALENDAR