BEGIN:VCALENDAR
VERSION:2.0
PRODID:-//Eastern Shore Art Center - ECPv6.15.20//NONSGML v1.0//EN
CALSCALE:GREGORIAN
METHOD:PUBLISH
X-WR-CALNAME:Eastern Shore Art Center
X-ORIGINAL-URL:https://esartcenter.org
X-WR-CALDESC:Events for Eastern Shore Art Center
REFRESH-INTERVAL;VALUE=DURATION:PT1H
X-Robots-Tag:noindex
X-PUBLISHED-TTL:PT1H
BEGIN:VTIMEZONE
TZID:America/Chicago
BEGIN:DAYLIGHT
TZOFFSETFROM:-0600
TZOFFSETTO:-0500
TZNAME:CDT
DTSTART:20250309T080000
END:DAYLIGHT
BEGIN:STANDARD
TZOFFSETFROM:-0500
TZOFFSETTO:-0600
TZNAME:CST
DTSTART:20251102T070000
END:STANDARD
BEGIN:DAYLIGHT
TZOFFSETFROM:-0600
TZOFFSETTO:-0500
TZNAME:CDT
DTSTART:20260308T080000
END:DAYLIGHT
BEGIN:STANDARD
TZOFFSETFROM:-0500
TZOFFSETTO:-0600
TZNAME:CST
DTSTART:20261101T070000
END:STANDARD
BEGIN:DAYLIGHT
TZOFFSETFROM:-0600
TZOFFSETTO:-0500
TZNAME:CDT
DTSTART:20270314T080000
END:DAYLIGHT
BEGIN:STANDARD
TZOFFSETFROM:-0500
TZOFFSETTO:-0600
TZNAME:CST
DTSTART:20271107T070000
END:STANDARD
END:VTIMEZONE
BEGIN:VEVENT
DTSTART;TZID=America/Chicago:20260403T180000
DTEND;TZID=America/Chicago:20260403T200000
DTSTAMP:20260425T101431
CREATED:20260401T143711Z
LAST-MODIFIED:20260401T143711Z
UID:21864-1775239200-1775246400@esartcenter.org
SUMMARY:First Friday Art Walk
DESCRIPTION:Eastern Shore Art Center Hosts First Friday Art Walk April 3\, 2026! Event sponsored by Origin Bank. Live music inside by Cathy Brumback.\nFree admission. Donations welcomed. Refreshments served.\n\nRETURNING EXHIBIT: Annual members’ Juried ShowThis exhibit showcases various work from the Artist Level members of the Eastern Shore Art Association. Artist Members and above are able to submit 3 original works for jurying done in any media\, including painting\, photography\, pottery and more..\n\nArtwork above by: Best of Show winner Karen Roloson\n\nRETURNING EXHIBIT: ESAC Community OutreachArtwork was created by children in residence at the USA Health Children’s & Women’s Hospital\nand additional organizations led by ESAC Outreach Director\, Lindsey Lawrence!\n\nRETURNING EXHIBIT: Members’ Sales GalleryWorks by ESAC’s Artist Level Members and above. This gallery changes out every two months and features all sorts of art mediums\, all for sale!\n\nAll exhibits will be on display through April 24\, 2026.\n\n\nFirst Friday Art Walk sponsored by:\n \n\n  \n 
URL:https://esartcenter.org/event/first-friday-art-walk-april2026/
LOCATION:Eastern Shore Art Center\, 401 Oak Street\, Fairhope\, AL\, 36532\, United States
CATEGORIES:Art Walk,Exhibits,Membership
ATTACH;FMTTYPE=image/jpeg:https://esartcenter.org/wp-content/uploads/2026/04/karen-roloson.jpg
ORGANIZER;CN="Eastern Shore Art Center":MAILTO:info@esartcenter.org
END:VEVENT
END:VCALENDAR